{
 "currentVersion": 10.81,
 "serviceDescription": "Congo/Congo_HCV_Priorities",
 "name": "Congo/Congo_HCV_Priorities",
 "description": "",
 "extent": {
  "xmin": 937652.6332485975,
  "ymin": -1502003.8339689495,
  "xmax": 3485152.6332485974,
  "ymax": 1458996.1660310505,
  "spatialReference": {
   "wkid": 3395,
   "latestWkid": 3395
  }
 },
 "initialExtent": {
  "xmin": 937652.6332485975,
  "ymin": -1502003.8339689495,
  "xmax": 3485152.6332485974,
  "ymax": 1458996.1660310505,
  "spatialReference": {
   "wkid": 3395,
   "latestWkid": 3395
  }
 },
 "fullExtent": {
  "xmin": 937652.6332485975,
  "ymin": -1502003.8339689495,
  "xmax": 3485152.6332485974,
  "ymax": 1458996.1660310505,
  "spatialReference": {
   "wkid": 3395,
   "latestWkid": 3395
  }
 },
 "pixelSizeX": 500,
 "pixelSizeY": 500,
 "datasetFormat": "TIFF",
 "uncompressedSize": 30172590,
 "blockWidth": 128,
 "blockHeight": 128,
 "compressionType": "LZW",
 "bandNames": [
  "Band_1"
 ],
 "allowCopy": true,
 "allowAnalysis": true,
 "bandCount": 1,
 "noDataValue": -128,
 "noDataValues": [
  -128
 ],
 "pixelType": "S8",
 "minPixelSize": 0,
 "maxPixelSize": 0,
 "copyrightText": "",
 "serviceDataType": "esriImageServiceDataTypeGeneric",
 "serviceSourceType": "esriImageServiceSourceTypeDataset",
 "minValues": [
  0
 ],
 "maxValues": [
  90
 ],
 "meanValues": [
  10.802568490143
 ],
 "stdvValues": [
  23.814168959805
 ],
 "objectIdField": "",
 "fields": [],
 "capabilities": "Mensuration,Image,Metadata",
 "defaultMosaicMethod": "Center",
 "allowedMosaicMethods": "",
 "sortField": "",
 "sortValue": null,
 "sortAscending": true,
 "mosaicOperator": "First",
 "defaultCompressionQuality": 95,
 "defaultResamplingMethod": "Nearest",
 "maxImageHeight": 4100,
 "maxImageWidth": 15000,
 "allowRasterFunction": true,
 "rasterFunctionInfos": [
  {
   "name": "None",
   "description": "",
   "help": ""
  }
 ],
 "rasterTypeInfos": [
  {
   "name": "Raster Dataset",
   "description": "Supports all ArcGIS Raster Datasets",
   "help": ""
  }
 ],
 "mensurationCapabilities": "Basic",
 "hasHistograms": true,
 "hasColormap": false,
 "hasRasterAttributeTable": true,
 "minScale": 0,
 "maxScale": 0,
 "exportTilesAllowed": false,
 "hasMultidimensions": false,
 "supportsStatistics": false,
 "supportsAdvancedQueries": false,
 "editFieldsInfo": null,
 "ownershipBasedAccessControlForRasters": null,
 "allowComputeTiePoints": false,
 "useStandardizedQueries": true,
 "advancedQueryCapabilities": {
  "useStandardizedQueries": true,
  "supportsStatistics": false,
  "supportsOrderBy": false,
  "supportsDistinct": false,
  "supportsPagination": false
 },
 "spatialReference": {
  "wkid": 3395,
  "latestWkid": 3395
 }
}
