{
 "currentVersion": 10.81,
 "serviceDescription": "Congo_Basin_Forest_Ecosystems",
 "name": "Congo_Basin_Forest_Ecosystems",
 "description": "",
 "extent": {
  "xmin": 623652.6332485974,
  "ymin": -1501903.8339689486,
  "xmax": 3484952.6332485974,
  "ymax": 1458996.1660310514,
  "spatialReference": {
   "wkid": 3395,
   "latestWkid": 3395
  }
 },
 "initialExtent": {
  "xmin": 623652.6332485974,
  "ymin": -1501903.8339689486,
  "xmax": 3484952.6332485974,
  "ymax": 1458996.1660310514,
  "spatialReference": {
   "wkid": 3395,
   "latestWkid": 3395
  }
 },
 "fullExtent": {
  "xmin": 623652.6332485974,
  "ymin": -1501903.8339689486,
  "xmax": 3484952.6332485974,
  "ymax": 1458996.1660310514,
  "spatialReference": {
   "wkid": 3395,
   "latestWkid": 3395
  }
 },
 "pixelSizeX": 100,
 "pixelSizeY": 100,
 "datasetFormat": "TIFF",
 "uncompressedSize": 847202317,
 "blockWidth": 128,
 "blockHeight": 128,
 "compressionType": "None",
 "bandNames": [
  "Band_1"
 ],
 "allowCopy": true,
 "allowAnalysis": true,
 "bandCount": 1,
 "noDataValue": 0,
 "noDataValues": [
  0
 ],
 "pixelType": "U8",
 "minPixelSize": 0,
 "maxPixelSize": 0,
 "copyrightText": "",
 "serviceDataType": "esriImageServiceDataTypeThematic",
 "serviceSourceType": "esriImageServiceSourceTypeDataset",
 "minValues": [
  1
 ],
 "maxValues": [
  64
 ],
 "meanValues": [
  30.177218147245
 ],
 "stdvValues": [
  15.993781101731
 ],
 "objectIdField": "",
 "fields": [],
 "capabilities": "Image,Metadata,Mensuration",
 "defaultMosaicMethod": "Center",
 "allowedMosaicMethods": "",
 "sortField": "",
 "sortValue": null,
 "sortAscending": true,
 "mosaicOperator": "First",
 "defaultCompressionQuality": 75,
 "defaultResamplingMethod": "Nearest",
 "maxImageHeight": 4100,
 "maxImageWidth": 15000,
 "allowRasterFunction": true,
 "rasterFunctionInfos": [
  {
   "name": "None",
   "description": "",
   "help": ""
  }
 ],
 "rasterTypeInfos": [
  {
   "name": "Raster Dataset",
   "description": "Supports all ArcGIS Raster Datasets",
   "help": ""
  }
 ],
 "mensurationCapabilities": "Basic",
 "hasHistograms": true,
 "hasColormap": false,
 "hasRasterAttributeTable": true,
 "minScale": 0,
 "maxScale": 0,
 "exportTilesAllowed": false,
 "hasMultidimensions": false,
 "supportsStatistics": false,
 "supportsAdvancedQueries": false,
 "editFieldsInfo": null,
 "ownershipBasedAccessControlForRasters": null,
 "allowComputeTiePoints": false,
 "useStandardizedQueries": true,
 "advancedQueryCapabilities": {
  "useStandardizedQueries": true,
  "supportsStatistics": false,
  "supportsOrderBy": false,
  "supportsDistinct": false,
  "supportsPagination": false
 },
 "spatialReference": {
  "wkid": 3395,
  "latestWkid": 3395
 }
}
