{
 "currentVersion": 10.81,
 "serviceDescription": "DRC/DRC_Above_Ground_Biomass",
 "name": "DRC/DRC_Above_Ground_Biomass",
 "description": "",
 "extent": {
  "xmin": 1358559.04269326,
  "ymin": -1501937.5476388934,
  "xmax": 3484959.04269326,
  "ymax": 596462.4523611066,
  "spatialReference": {
   "wkid": 54004,
   "latestWkid": 54004
  }
 },
 "initialExtent": {
  "xmin": 1358559.04269326,
  "ymin": -1501937.5476388934,
  "xmax": 3484959.04269326,
  "ymax": 596462.4523611066,
  "spatialReference": {
   "wkid": 54004,
   "latestWkid": 54004
  }
 },
 "fullExtent": {
  "xmin": 1358559.04269326,
  "ymin": -1501937.5476388934,
  "xmax": 3484959.04269326,
  "ymax": 596462.4523611066,
  "spatialReference": {
   "wkid": 54004,
   "latestWkid": 54004
  }
 },
 "pixelSizeX": 100,
 "pixelSizeY": 100,
 "datasetFormat": "TIFF",
 "uncompressedSize": 1784815104,
 "blockWidth": 128,
 "blockHeight": 128,
 "compressionType": "LZW",
 "bandNames": [
  "Band_1"
 ],
 "allowCopy": true,
 "allowAnalysis": true,
 "bandCount": 1,
 "noDataValue": -3.4028234663852886E38,
 "noDataValues": [
  -3.4028234663852886E38
 ],
 "pixelType": "F32",
 "minPixelSize": 0,
 "maxPixelSize": 0,
 "copyrightText": "",
 "serviceDataType": "esriImageServiceDataTypeGeneric",
 "serviceSourceType": "esriImageServiceSourceTypeDataset",
 "minValues": [
  0
 ],
 "maxValues": [
  667.88787841797
 ],
 "meanValues": [
  166.98434671153
 ],
 "stdvValues": [
  155.84256686477
 ],
 "objectIdField": "",
 "fields": [],
 "capabilities": "Mensuration,Image,Metadata",
 "defaultMosaicMethod": "Center",
 "allowedMosaicMethods": "",
 "sortField": "",
 "sortValue": null,
 "sortAscending": true,
 "mosaicOperator": "First",
 "defaultCompressionQuality": 75,
 "defaultResamplingMethod": "Bilinear",
 "maxImageHeight": 4100,
 "maxImageWidth": 15000,
 "allowRasterFunction": true,
 "rasterFunctionInfos": [
  {
   "name": "None",
   "description": "",
   "help": ""
  }
 ],
 "rasterTypeInfos": [
  {
   "name": "Raster Dataset",
   "description": "Supports all ArcGIS Raster Datasets",
   "help": ""
  }
 ],
 "mensurationCapabilities": "Basic",
 "hasHistograms": true,
 "hasColormap": false,
 "hasRasterAttributeTable": false,
 "minScale": 0,
 "maxScale": 0,
 "exportTilesAllowed": false,
 "hasMultidimensions": false,
 "supportsStatistics": false,
 "supportsAdvancedQueries": false,
 "editFieldsInfo": null,
 "ownershipBasedAccessControlForRasters": null,
 "allowComputeTiePoints": false,
 "useStandardizedQueries": true,
 "advancedQueryCapabilities": {
  "useStandardizedQueries": true,
  "supportsStatistics": false,
  "supportsOrderBy": false,
  "supportsDistinct": false,
  "supportsPagination": false
 },
 "spatialReference": {
  "wkid": 54004,
  "latestWkid": 54004
 }
}
