View In:
ArcGIS JavaScript
ArcGIS Online Map Viewer
ArcGIS Earth
ArcMap
View Footprint In:
ArcGIS Online Map Viewer
Service Description: Forests/Contextual_Intactness
Name: Forests/Contextual_Intactness
Description:
Single Fused Map Cache: false
Extent:
XMin: -179.99999999999147
YMin: -55.90833333332843
XMax: 179.99999999998806
YMax: 81.39166666666377
Spatial Reference: 4326
(4326)
Initial Extent:
XMin: -179.99999999999147
YMin: -55.90833333332843
XMax: 179.99999999998806
YMax: 81.39166666666377
Spatial Reference: 4326
(4326)
Full Extent:
XMin: -179.99999999999147
YMin: -55.90833333332843
XMax: 179.99999999998806
YMax: 81.39166666666377
Spatial Reference: 4326
(4326)
Pixel Size X: 0.00833333333333286
Pixel Size Y: 0.00833333333333286
Band Count: 1
Pixel Type: S8
RasterFunction Infos: {"rasterFunctionInfos": [{
"name": "None",
"description": "",
"help": ""
}]}
Mensuration Capabilities: Basic
Has Histograms: true
Has Colormap: false
Has Multi Dimensions : false
Rendering Rule:
Min Scale: 0
Max Scale: 0
Copyright Text:
Service Data Type: esriImageServiceDataTypeGeneric
Min Values: 10
Max Values: 100
Mean Values: 54.25375142203462
Standard Deviation Values: 24.87431496526318
Object ID Field:
Fields:
None
Default Mosaic Method: Center
Allowed Mosaic Methods:
SortField:
SortValue: null
Mosaic Operator: First
Default Compression Quality: 75
Default Resampling Method: Nearest
Max Record Count: null
Max Image Height: 4100
Max Image Width: 15000
Max Download Image Count: null
Max Mosaic Image Count: null
Allow Raster Function: true
Allow Copy: true
Allow Analysis: true
Allow Compute TiePoints: false
Supports Statistics: false
Supports Advanced Queries: false
Use StandardizedQueries: true
Raster Type Infos:
Name: Raster Dataset
Description: Supports all ArcGIS Raster Datasets
Help:
Has Raster Attribute Table: true
Edit Fields Info: null
Ownership Based AccessControl For Rasters: null
Child Resources:
Info
Raster Attribute Table
Histograms
Statistics
Key Properties
Legend
Raster Function Infos
Supported Operations:
Export Image
Identify
Measure
Compute Histograms
Compute Statistics Histograms
Get Samples
Compute Class Statistics
Query Boundary
Compute Pixel Location
Validate
Project