View In:
ArcGIS JavaScript
ArcGIS Online Map Viewer
ArcGIS Earth
ArcMap
View Footprint In:
ArcGIS Online Map Viewer
Service Description: Forests/Deforestation_Terra_I_2004_2017_Attributed
Name: Forests/Deforestation_Terra_I_2004_2017_Attributed
Description:
Single Fused Map Cache: false
Extent:
XMin: -1.6527257067161843E7
YMin: -7772358.404234694
XMax: 2.0037742932838157E7
YMax: 4865641.595765306
Spatial Reference: 102100
(3857)
Initial Extent:
XMin: -1.6527257067161843E7
YMin: -7772358.404234694
XMax: 2.0037742932838157E7
YMax: 4865641.595765306
Spatial Reference: 102100
(3857)
Full Extent:
XMin: -1.6527257067161843E7
YMin: -7772358.404234694
XMax: 2.0037742932838157E7
YMax: 4865641.595765306
Spatial Reference: 102100
(3857)
Pixel Size X: 250.0
Pixel Size Y: 250.0
Band Count: 1
Pixel Type: U8
RasterFunction Infos: {"rasterFunctionInfos": [{
"name": "None",
"description": "",
"help": ""
}]}
Mensuration Capabilities: Basic
Has Histograms: true
Has Colormap: false
Has Multi Dimensions : false
Rendering Rule:
Min Scale: 0
Max Scale: 0
Copyright Text:
Service Data Type: esriImageServiceDataTypeGeneric
Min Values: 1
Max Values: 14
Mean Values: 8.103980042934865
Standard Deviation Values: 4.130681334561329
Object ID Field:
Fields:
None
Default Mosaic Method: Center
Allowed Mosaic Methods:
SortField:
SortValue: null
Mosaic Operator: First
Default Compression Quality: 75
Default Resampling Method: Nearest
Max Record Count: null
Max Image Height: 4100
Max Image Width: 15000
Max Download Image Count: null
Max Mosaic Image Count: null
Allow Raster Function: true
Allow Copy: true
Allow Analysis: true
Allow Compute TiePoints: false
Supports Statistics: false
Supports Advanced Queries: false
Use StandardizedQueries: true
Raster Type Infos:
Name: Raster Dataset
Description: Supports all ArcGIS Raster Datasets
Help:
Has Raster Attribute Table: true
Edit Fields Info: null
Ownership Based AccessControl For Rasters: null
Child Resources:
Info
Raster Attribute Table
Histograms
Statistics
Key Properties
Legend
Raster Function Infos
Supported Operations:
Export Image
Identify
Measure
Compute Histograms
Compute Statistics Histograms
Get Samples
Compute Class Statistics
Query Boundary
Compute Pixel Location
Validate
Project