View In:
ArcGIS JavaScript
ArcGIS Online Map Viewer
ArcGIS Earth
ArcMap
View Footprint In:
ArcGIS Online Map Viewer
Service Description: Forests/Global_Restoration_Potential_Continous
Name: Forests/Global_Restoration_Potential_Continous
Description:
Single Fused Map Cache: false
Extent:
XMin: -180
YMin: -59.09117938938206
XMax: 179.99985011089825
YMax: 84.18112527484044
Spatial Reference: 4326
(4326)
Initial Extent:
XMin: -180
YMin: -59.09117938938206
XMax: 179.99985011089825
YMax: 84.18112527484044
Spatial Reference: 4326
(4326)
Full Extent:
XMin: -180
YMin: -59.09117938938206
XMax: 179.99985011089825
YMax: 84.18112527484044
Spatial Reference: 4326
(4326)
Pixel Size X: 0.008983152841195215
Pixel Size Y: 0.008983152841195215
Band Count: 1
Pixel Type: S8
RasterFunction Infos: {"rasterFunctionInfos": [{
"name": "None",
"description": "",
"help": ""
}]}
Mensuration Capabilities: Basic
Has Histograms: true
Has Colormap: false
Has Multi Dimensions : false
Rendering Rule:
Min Scale: 0
Max Scale: 0
Copyright Text:
Service Data Type: esriImageServiceDataTypeGeneric
Min Values: 1
Max Values: 100
Mean Values: 38.141081712136
Standard Deviation Values: 28.934060352213
Object ID Field:
Fields:
None
Default Mosaic Method: Center
Allowed Mosaic Methods:
SortField:
SortValue: null
Mosaic Operator: First
Default Compression Quality: 90
Default Resampling Method: Nearest
Max Record Count: null
Max Image Height: 4100
Max Image Width: 15000
Max Download Image Count: null
Max Mosaic Image Count: null
Allow Raster Function: true
Allow Copy: true
Allow Analysis: true
Allow Compute TiePoints: false
Supports Statistics: false
Supports Advanced Queries: false
Use StandardizedQueries: true
Raster Type Infos:
Name: Raster Dataset
Description: Supports all ArcGIS Raster Datasets
Help:
Has Raster Attribute Table: true
Edit Fields Info: null
Ownership Based AccessControl For Rasters: null
Child Resources:
Info
Raster Attribute Table
Histograms
Statistics
Key Properties
Legend
Raster Function Infos
Supported Operations:
Export Image
Identify
Measure
Compute Histograms
Compute Statistics Histograms
Get Samples
Compute Class Statistics
Query Boundary
Compute Pixel Location
Validate
Project