View In:
ArcGIS JavaScript
ArcGIS Online Map Viewer
ArcGIS Earth
ArcMap
View Footprint In:
ArcGIS Online Map Viewer
Service Description: Forests/WWF_Priority_Ecoregions
Name: Forests/WWF_Priority_Ecoregions
Description:
Single Fused Map Cache: false
Extent:
XMin: -2.0037507067161843E7
YMin: -2.1169640095984176E7
XMax: 2.0038492932838157E7
YMax: 3.0242359904015824E7
Spatial Reference: 102100
(3857)
Initial Extent:
XMin: -2.0037507067161843E7
YMin: -2.1169640095984176E7
XMax: 2.0038492932838157E7
YMax: 3.0242359904015824E7
Spatial Reference: 102100
(3857)
Full Extent:
XMin: -2.0037507067161843E7
YMin: -2.1169640095984176E7
XMax: 2.0038492932838157E7
YMax: 3.0242359904015824E7
Spatial Reference: 102100
(3857)
Pixel Size X: 4000.0
Pixel Size Y: 4000.0
Band Count: 1
Pixel Type: S8
RasterFunction Infos: {"rasterFunctionInfos": [{
"name": "None",
"description": "",
"help": ""
}]}
Mensuration Capabilities: Basic
Has Histograms: true
Has Colormap: false
Has Multi Dimensions : false
Rendering Rule:
Min Scale: 0
Max Scale: 0
Copyright Text:
Service Data Type: esriImageServiceDataTypeGeneric
Min Values: 0
Max Values: 1
Mean Values: 0.054500968505285
Standard Deviation Values: 0.22700355357887
Object ID Field:
Fields:
None
Default Mosaic Method: Center
Allowed Mosaic Methods:
SortField:
SortValue: null
Mosaic Operator: First
Default Compression Quality: 85
Default Resampling Method: Nearest
Max Record Count: null
Max Image Height: 4100
Max Image Width: 15000
Max Download Image Count: null
Max Mosaic Image Count: null
Allow Raster Function: true
Allow Copy: true
Allow Analysis: true
Allow Compute TiePoints: false
Supports Statistics: false
Supports Advanced Queries: false
Use StandardizedQueries: true
Raster Type Infos:
Name: Raster Dataset
Description: Supports all ArcGIS Raster Datasets
Help:
Has Raster Attribute Table: true
Edit Fields Info: null
Ownership Based AccessControl For Rasters: null
Child Resources:
Info
Raster Attribute Table
Histograms
Statistics
Key Properties
Legend
Raster Function Infos
Supported Operations:
Export Image
Identify
Measure
Compute Histograms
Compute Statistics Histograms
Get Samples
Compute Class Statistics
Query Boundary
Compute Pixel Location
Validate
Project