View In:
ArcGIS JavaScript
ArcGIS Online Map Viewer
ArcGIS Earth
ArcMap
View Footprint In:
ArcGIS Online Map Viewer
Service Description: Global_Forest_Cover_2000_tif
Name: Global_Forest_Cover_2000_tif
Description:
Single Fused Map Cache: false
Extent:
XMin: -2.003767787252412E7
YMin: -8192570.530195925
XMax: 2.003782212747588E7
YMax: 1.2780429469804075E7
Spatial Reference: 102100
(3857)
Initial Extent:
XMin: -2.003767787252412E7
YMin: -8192570.530195925
XMax: 2.003782212747588E7
YMax: 1.2780429469804075E7
Spatial Reference: 102100
(3857)
Full Extent:
XMin: -2.003767787252412E7
YMin: -8192570.530195925
XMax: 2.003782212747588E7
YMax: 1.2780429469804075E7
Spatial Reference: 102100
(3857)
Pixel Size X: 10018.875
Pixel Size Y: 5243.25
Band Count: 1
Pixel Type: U8
RasterFunction Infos: {"rasterFunctionInfos": [{
"name": "None",
"description": "",
"help": ""
}]}
Mensuration Capabilities: Basic
Has Histograms: true
Has Colormap: false
Has Multi Dimensions : false
Rendering Rule:
Min Scale: 0
Max Scale: 0
Copyright Text:
Service Data Type: esriImageServiceDataTypeGeneric
Min Values: 1
Max Values: 1
Mean Values: 1
Standard Deviation Values: 0
Object ID Field:
Fields:
None
Default Mosaic Method: Center
Allowed Mosaic Methods:
SortField:
SortValue: null
Mosaic Operator: First
Default Compression Quality: 75
Default Resampling Method: Bilinear
Max Record Count: null
Max Image Height: 4100
Max Image Width: 15000
Max Download Image Count: null
Max Mosaic Image Count: null
Allow Raster Function: true
Allow Copy: true
Allow Analysis: true
Allow Compute TiePoints: false
Supports Statistics: false
Supports Advanced Queries: false
Use StandardizedQueries: true
Raster Type Infos:
Name: Raster Dataset
Description: Supports all ArcGIS Raster Datasets
Help:
Has Raster Attribute Table: false
Edit Fields Info: null
Ownership Based AccessControl For Rasters: null
Child Resources:
Info
Histograms
Statistics
Key Properties
Legend
Raster Function Infos
Supported Operations:
Export Image
Identify
Measure
Compute Histograms
Compute Statistics Histograms
Get Samples
Compute Class Statistics
Query Boundary
Compute Pixel Location
Validate
Project