View In:
ArcGIS JavaScript
ArcGIS Online Map Viewer
ArcGIS Earth
ArcMap
View Footprint In:
ArcGIS Online Map Viewer
Service Description: Congo/Congo_HCV_Priorities
Name: Congo/Congo_HCV_Priorities
Description:
Single Fused Map Cache: false
Extent:
XMin: 937652.6332485975
YMin: -1502003.8339689495
XMax: 3485152.6332485974
YMax: 1458996.1660310505
Spatial Reference: 3395
(3395)
Initial Extent:
XMin: 937652.6332485975
YMin: -1502003.8339689495
XMax: 3485152.6332485974
YMax: 1458996.1660310505
Spatial Reference: 3395
(3395)
Full Extent:
XMin: 937652.6332485975
YMin: -1502003.8339689495
XMax: 3485152.6332485974
YMax: 1458996.1660310505
Spatial Reference: 3395
(3395)
Pixel Size X: 500.0
Pixel Size Y: 500.0
Band Count: 1
Pixel Type: S8
RasterFunction Infos: {"rasterFunctionInfos": [{
"name": "None",
"description": "",
"help": ""
}]}
Mensuration Capabilities: Basic
Has Histograms: true
Has Colormap: false
Has Multi Dimensions : false
Rendering Rule:
Min Scale: 0
Max Scale: 0
Copyright Text:
Service Data Type: esriImageServiceDataTypeGeneric
Min Values: 0
Max Values: 90
Mean Values: 10.802568490143
Standard Deviation Values: 23.814168959805
Object ID Field:
Fields:
None
Default Mosaic Method: Center
Allowed Mosaic Methods:
SortField:
SortValue: null
Mosaic Operator: First
Default Compression Quality: 95
Default Resampling Method: Nearest
Max Record Count: null
Max Image Height: 4100
Max Image Width: 15000
Max Download Image Count: null
Max Mosaic Image Count: null
Allow Raster Function: true
Allow Copy: true
Allow Analysis: true
Allow Compute TiePoints: false
Supports Statistics: false
Supports Advanced Queries: false
Use StandardizedQueries: true
Raster Type Infos:
Name: Raster Dataset
Description: Supports all ArcGIS Raster Datasets
Help:
Has Raster Attribute Table: true
Edit Fields Info: null
Ownership Based AccessControl For Rasters: null
Child Resources:
Info
Raster Attribute Table
Histograms
Statistics
Key Properties
Legend
Raster Function Infos
Supported Operations:
Export Image
Identify
Measure
Compute Histograms
Compute Statistics Histograms
Get Samples
Compute Class Statistics
Query Boundary
Compute Pixel Location
Validate
Project