View In:
ArcGIS JavaScript
ArcGIS Online Map Viewer
ArcGIS Earth
ArcMap
View Footprint In:
ArcGIS Online Map Viewer
Service Description: DRC/DRC_Above_Ground_Biomass
Name: DRC/DRC_Above_Ground_Biomass
Description:
Single Fused Map Cache: false
Extent:
XMin: 1358559.04269326
YMin: -1501937.5476388934
XMax: 3484959.04269326
YMax: 596462.4523611066
Spatial Reference: 54004
(54004)
Initial Extent:
XMin: 1358559.04269326
YMin: -1501937.5476388934
XMax: 3484959.04269326
YMax: 596462.4523611066
Spatial Reference: 54004
(54004)
Full Extent:
XMin: 1358559.04269326
YMin: -1501937.5476388934
XMax: 3484959.04269326
YMax: 596462.4523611066
Spatial Reference: 54004
(54004)
Pixel Size X: 100.0
Pixel Size Y: 100.0
Band Count: 1
Pixel Type: F32
RasterFunction Infos: {"rasterFunctionInfos": [{
"name": "None",
"description": "",
"help": ""
}]}
Mensuration Capabilities: Basic
Has Histograms: true
Has Colormap: false
Has Multi Dimensions : false
Rendering Rule:
Min Scale: 0
Max Scale: 0
Copyright Text:
Service Data Type: esriImageServiceDataTypeGeneric
Min Values: 0
Max Values: 667.88787841797
Mean Values: 166.98434671153
Standard Deviation Values: 155.84256686477
Object ID Field:
Fields:
None
Default Mosaic Method: Center
Allowed Mosaic Methods:
SortField:
SortValue: null
Mosaic Operator: First
Default Compression Quality: 75
Default Resampling Method: Bilinear
Max Record Count: null
Max Image Height: 4100
Max Image Width: 15000
Max Download Image Count: null
Max Mosaic Image Count: null
Allow Raster Function: true
Allow Copy: true
Allow Analysis: true
Allow Compute TiePoints: false
Supports Statistics: false
Supports Advanced Queries: false
Use StandardizedQueries: true
Raster Type Infos:
Name: Raster Dataset
Description: Supports all ArcGIS Raster Datasets
Help:
Has Raster Attribute Table: false
Edit Fields Info: null
Ownership Based AccessControl For Rasters: null
Child Resources:
Info
Histograms
Statistics
Key Properties
Legend
Raster Function Infos
Supported Operations:
Export Image
Identify
Measure
Compute Histograms
Compute Statistics Histograms
Get Samples
Compute Class Statistics
Query Boundary
Compute Pixel Location
Validate
Project